BEGIN:VCALENDAR
VERSION:2.0
PRODID:-//Site de la commune de Pamfou - ECPv4.9.2//NONSGML v1.0//EN
CALSCALE:GREGORIAN
METHOD:PUBLISH
X-WR-CALNAME:Site de la commune de Pamfou
X-ORIGINAL-URL:https://www.pamfou-mairie77.fr
X-WR-CALDESC:Évènements pour Site de la commune de Pamfou
BEGIN:VEVENT
DTSTART;VALUE=DATE:20230528
DTEND;VALUE=DATE:20230529
DTSTAMP:20260420T205305
CREATED:20230420T154405Z
LAST-MODIFIED:20230420T154405Z
UID:3361-1685232000-1685318399@www.pamfou-mairie77.fr
SUMMARY:JEUX INTER VILLAGES dimanche 28 Mai 2023
DESCRIPTION:Jeux Inter Villages à PAMFOU \nDimanche 28 Mai 2023 \nVenez nombreux jouer ou encourager votre commune \nProgramme\, \nbulletin d’inscription (à déposer en Mairie avant le 12 mai)   \n
URL:https://www.pamfou-mairie77.fr/evenement/jeux-inter-villages-dimanche-28-mai-2023/
LOCATION:Salle polyvalente\, rue du 19 mars 1962\, Pamfou\, 77830\, France
ORGANIZER;CN="Comit%C3%A9%20des%20F%C3%AAtes":MAILTO:comite.de.pamfou@live.fr
END:VEVENT
END:VCALENDAR