BEGIN:VCALENDAR
VERSION:2.0
PRODID:-//Site de la commune de Pamfou - ECPv4.9.2//NONSGML v1.0//EN
CALSCALE:GREGORIAN
METHOD:PUBLISH
X-WR-CALNAME:Site de la commune de Pamfou
X-ORIGINAL-URL:https://www.pamfou-mairie77.fr
X-WR-CALDESC:Évènements pour Site de la commune de Pamfou
BEGIN:VEVENT
DTSTART;VALUE=DATE:20240522
DTEND;VALUE=DATE:20240523
DTSTAMP:20260420T011342
CREATED:20240521T093911Z
LAST-MODIFIED:20240521T093911Z
UID:4049-1716336000-1716422399@www.pamfou-mairie77.fr
SUMMARY:Mairie Fermée
DESCRIPTION: \nLa Mairie sera Fermée \n\nMercredi 22 Mai 2024 \nMerci pour votre compréhension \n\n
URL:https://www.pamfou-mairie77.fr/evenement/mairie-fermee/
LOCATION:Mairie
CATEGORIES:Information Mairie
END:VEVENT
END:VCALENDAR