BEGIN:VCALENDAR
VERSION:2.0
PRODID:-//Site de la commune de Pamfou - ECPv4.9.2//NONSGML v1.0//EN
CALSCALE:GREGORIAN
METHOD:PUBLISH
X-WR-CALNAME:Site de la commune de Pamfou
X-ORIGINAL-URL:https://www.pamfou-mairie77.fr
X-WR-CALDESC:Évènements pour Site de la commune de Pamfou
BEGIN:VEVENT
DTSTART;VALUE=DATE:20240630
DTEND;VALUE=DATE:20240708
DTSTAMP:20260419T233403
CREATED:20240614T145241Z
LAST-MODIFIED:20240614T145241Z
UID:4082-1719705600-1720396799@www.pamfou-mairie77.fr
SUMMARY:Elections Législatives 2024
DESCRIPTION:Elections Législatives 2024 \n– – – – – – – \nLe 30 juin et le 7 juillet 2024 \nVous allez être absent le jour du vote : \nVote par procuration : \nVous pouvez charger une personne de confiance de voter à votre place\, dans votre bureau de vote. Pour cela\, vous devez faire une procuration\, faire cette démarche au plus tôt vous assure de pouvoir voter par procuration le jour du vote. \nPour cela vous trouverez le lien vous permettant de vous connecter à Maprocuration : \nhttps://www.maprocuration.gouv.fr/ \n
URL:https://www.pamfou-mairie77.fr/evenement/elections-legislatives-2024/
END:VEVENT
END:VCALENDAR