BEGIN:VCALENDAR
VERSION:2.0
PRODID:-//Site de la commune de Pamfou - ECPv4.9.2//NONSGML v1.0//EN
CALSCALE:GREGORIAN
METHOD:PUBLISH
X-WR-CALNAME:Site de la commune de Pamfou
X-ORIGINAL-URL:https://www.pamfou-mairie77.fr
X-WR-CALDESC:Évènements pour Site de la commune de Pamfou
BEGIN:VEVENT
DTSTART;VALUE=DATE:20240715
DTEND;VALUE=DATE:20240824
DTSTAMP:20260419T201358
CREATED:20240704T153351Z
LAST-MODIFIED:20240704T153620Z
UID:4088-1721001600-1724457599@www.pamfou-mairie77.fr
SUMMARY:Mairie - Horaires d'été
DESCRIPTION:La Mairie change d’horaires d’ouverture \nDu 15 Juillet au 23 Août 2024 \nLundi 14h00 – 18h00 \nMardi 9h00 – 12h00 \nJeudi 14h00 – 18h00 \nVendredi 9h00 – 12h00 \n
URL:https://www.pamfou-mairie77.fr/evenement/mairie-horaires-ete/
END:VEVENT
END:VCALENDAR