BEGIN:VCALENDAR
VERSION:2.0
PRODID:-//Site de la commune de Pamfou - ECPv4.9.2//NONSGML v1.0//EN
CALSCALE:GREGORIAN
METHOD:PUBLISH
X-WR-CALNAME:Site de la commune de Pamfou
X-ORIGINAL-URL:https://www.pamfou-mairie77.fr
X-WR-CALDESC:Évènements pour Site de la commune de Pamfou
BEGIN:VEVENT
DTSTART;TZID=Europe/Paris:20230930T193000
DTEND;TZID=Europe/Paris:20230930T230000
DTSTAMP:20260420T063105
CREATED:20230907T133317Z
LAST-MODIFIED:20230907T133317Z
UID:3578-1696102200-1696114800@www.pamfou-mairie77.fr
SUMMARY:A PAMFOU THEATRE
DESCRIPTION:Samedi 30 Septembre 2023 \nLa compagnie OGOA présente “L’épingle du jeu” \nSalle polyvalente 20h00 – 3 rue du 19 Mars 1962 \nOuverture des portes à 19h30 \n \n
URL:https://www.pamfou-mairie77.fr/evenement/a-pamfou-theatre/
LOCATION:Salle des Fêtes\, 3 rue du 19 Mars 1962\, PAMFOU\, 77830\, France
ORGANIZER;CN="Mairie":MAILTO:mairie@a3web.fr
END:VEVENT
END:VCALENDAR