BEGIN:VCALENDAR
VERSION:2.0
PRODID:-//Site de la commune de Pamfou - ECPv4.9.2//NONSGML v1.0//EN
CALSCALE:GREGORIAN
METHOD:PUBLISH
X-WR-CALNAME:Site de la commune de Pamfou
X-ORIGINAL-URL:https://www.pamfou-mairie77.fr
X-WR-CALDESC:Évènements pour Site de la commune de Pamfou
BEGIN:VEVENT
DTSTART;TZID=Europe/Paris:20231020T080000
DTEND;TZID=Europe/Paris:20231215T180000
DTSTAMP:20260420T061729
CREATED:20231020T143820Z
LAST-MODIFIED:20231020T143922Z
UID:3784-1697788800-1702663200@www.pamfou-mairie77.fr
SUMMARY:AVIS D'APPEL A LA CONCURRENCE
DESCRIPTION:Pour voir l’avis d’appel à la concurrence cliquez ici \n  \n
URL:https://www.pamfou-mairie77.fr/evenement/avis-dappel-a-la-concurrence/
LOCATION:Mairie
CATEGORIES:APPEL A LA CONCURRENCE
END:VEVENT
END:VCALENDAR