BEGIN:VCALENDAR
VERSION:2.0
PRODID:-//Site de la commune de Pamfou - ECPv4.9.2//NONSGML v1.0//EN
CALSCALE:GREGORIAN
METHOD:PUBLISH
X-WR-CALNAME:Site de la commune de Pamfou
X-ORIGINAL-URL:https://www.pamfou-mairie77.fr
X-WR-CALDESC:Évènements pour Site de la commune de Pamfou
BEGIN:VEVENT
DTSTART;TZID=Europe/Paris:20220410T080000
DTEND;TZID=Europe/Paris:20220410T190000
DTSTAMP:20260421T175430
CREATED:20220407T123710Z
LAST-MODIFIED:20220407T132501Z
UID:2979-1649577600-1649617200@www.pamfou-mairie77.fr
SUMMARY:ELECTION PRESIDENTIELLE 1er tour
DESCRIPTION:
URL:https://www.pamfou-mairie77.fr/evenement/election-presidentielle-1er-tour/
LOCATION:Mairie
END:VEVENT
END:VCALENDAR