BEGIN:VCALENDAR
VERSION:2.0
PRODID:-//Site de la commune de Pamfou - ECPv4.9.2//NONSGML v1.0//EN
CALSCALE:GREGORIAN
METHOD:PUBLISH
X-WR-CALNAME:Site de la commune de Pamfou
X-ORIGINAL-URL:https://www.pamfou-mairie77.fr
X-WR-CALDESC:Évènements pour Site de la commune de Pamfou
BEGIN:VEVENT
DTSTART;VALUE=DATE:20240816
DTEND;VALUE=DATE:20240817
DTSTAMP:20260419T161002
CREATED:20240808T135937Z
LAST-MODIFIED:20240808T135937Z
UID:4105-1723766400-1723852799@www.pamfou-mairie77.fr
SUMMARY:Fermeture Mairie
DESCRIPTION:\nFermeture de la Mairie \n\n– – – – – – – \n\nLa Mairie sera fermée \nVendredi 16 août 2024 \n(assomption) \n\n
URL:https://www.pamfou-mairie77.fr/evenement/fermeture-mairie-2/
END:VEVENT
END:VCALENDAR