BEGIN:VCALENDAR
VERSION:2.0
PRODID:-//Site de la commune de Pamfou - ECPv4.9.2//NONSGML v1.0//EN
CALSCALE:GREGORIAN
METHOD:PUBLISH
X-WR-CALNAME:Site de la commune de Pamfou
X-ORIGINAL-URL:https://www.pamfou-mairie77.fr
X-WR-CALDESC:Évènements pour Site de la commune de Pamfou
BEGIN:VEVENT
DTSTART;TZID=Europe/Paris:20240520T080000
DTEND;TZID=Europe/Paris:20240520T170000
DTSTAMP:20260420T012010
CREATED:20240513T145838Z
LAST-MODIFIED:20240513T150709Z
UID:4041-1716192000-1716224400@www.pamfou-mairie77.fr
SUMMARY:Fermeture Mairie Lundi 20 Mai 2024
DESCRIPTION: \nLa Mairie sera fermée \n\nexceptionnellement \nLundi 20 Mai 2024 \nMerci pour votre compréhension \n\n
URL:https://www.pamfou-mairie77.fr/evenement/fermeture-mairie-lundi-20-mai-2024/
CATEGORIES:Information Mairie
END:VEVENT
END:VCALENDAR