BEGIN:VCALENDAR
VERSION:2.0
PRODID:-//Site de la commune de Pamfou - ECPv4.9.2//NONSGML v1.0//EN
CALSCALE:GREGORIAN
METHOD:PUBLISH
X-WR-CALNAME:Site de la commune de Pamfou
X-ORIGINAL-URL:https://www.pamfou-mairie77.fr
X-WR-CALDESC:Évènements pour Site de la commune de Pamfou
BEGIN:VEVENT
DTSTART;VALUE=DATE:20240703
DTEND;VALUE=DATE:20240704
DTSTAMP:20260419T191759
CREATED:20240702T173742Z
LAST-MODIFIED:20240702T173742Z
UID:4086-1719964800-1720051199@www.pamfou-mairie77.fr
SUMMARY:Fermeture Mairie
DESCRIPTION:La Mairie sera exceptionnellement Fermée \nMercredi 3 juillet 2024 \nMerci pour votre compréhension \n
URL:https://www.pamfou-mairie77.fr/evenement/fermeture-mairie/
END:VEVENT
END:VCALENDAR