BEGIN:VCALENDAR
VERSION:2.0
PRODID:-//Site de la commune de Pamfou - ECPv4.9.2//NONSGML v1.0//EN
CALSCALE:GREGORIAN
METHOD:PUBLISH
X-WR-CALNAME:Site de la commune de Pamfou
X-ORIGINAL-URL:https://www.pamfou-mairie77.fr
X-WR-CALDESC:Évènements pour Site de la commune de Pamfou
BEGIN:VEVENT
DTSTART;TZID=Europe/Paris:20230909T150000
DTEND;TZID=Europe/Paris:20230909T180000
DTSTAMP:20260420T132556
CREATED:20230717T145905Z
LAST-MODIFIED:20230717T150038Z
UID:3500-1694271600-1694282400@www.pamfou-mairie77.fr
SUMMARY:FORUM DES ASSOCIATIONS Samedi 09 septembre 2023
DESCRIPTION: \n
URL:https://www.pamfou-mairie77.fr/evenement/forum-des-associations-samedi-16-septembre-2023/
LOCATION:SALLE MULTIFONCTION
ORGANIZER;CN="Mairie":MAILTO:mairie@a3web.fr
END:VEVENT
END:VCALENDAR