BEGIN:VCALENDAR
VERSION:2.0
PRODID:-//Site de la commune de Pamfou - ECPv4.9.2//NONSGML v1.0//EN
CALSCALE:GREGORIAN
METHOD:PUBLISH
X-WR-CALNAME:Site de la commune de Pamfou
X-ORIGINAL-URL:https://www.pamfou-mairie77.fr
X-WR-CALDESC:Évènements pour Site de la commune de Pamfou
BEGIN:VEVENT
DTSTART;TZID=Europe/Paris:20200613T120000
DTEND;TZID=Europe/Paris:20200613T170000
DTSTAMP:20260421T192550
CREATED:20200610T082154Z
LAST-MODIFIED:20200610T082847Z
UID:2236-1592049600-1592067600@www.pamfou-mairie77.fr
SUMMARY:INAUGURATION DU RUCHER DES APICULTEURS
DESCRIPTION: \n
URL:https://www.pamfou-mairie77.fr/evenement/inauguration-du-rucher-des-apiculteurs/
END:VEVENT
END:VCALENDAR