BEGIN:VCALENDAR
VERSION:2.0
PRODID:-//Site de la commune de Pamfou - ECPv4.9.2//NONSGML v1.0//EN
CALSCALE:GREGORIAN
METHOD:PUBLISH
X-WR-CALNAME:Site de la commune de Pamfou
X-ORIGINAL-URL:https://www.pamfou-mairie77.fr
X-WR-CALDESC:Évènements pour Site de la commune de Pamfou
BEGIN:VEVENT
DTSTART;TZID=Europe/Paris:20241207T080000
DTEND;TZID=Europe/Paris:20241208T180000
DTSTAMP:20260419T130047
CREATED:20240516T144353Z
LAST-MODIFIED:20240924T170728Z
UID:4046-1733558400-1733680800@www.pamfou-mairie77.fr
SUMMARY:COMPLET - Marché de Noël 2024 -
DESCRIPTION:COMPLET – Fiche d’inscription Marché de Noël ici \n  \n
URL:https://www.pamfou-mairie77.fr/evenement/marche-de-noel-2024/
LOCATION:Salle des Fêtes\, 3 rue du 19 Mars 1962\, PAMFOU\, 77830\, France
ORGANIZER;CN="Comit%C3%A9%20des%20F%C3%AAtes":MAILTO:comite.de.pamfou@live.fr
END:VEVENT
END:VCALENDAR