BEGIN:VCALENDAR
VERSION:2.0
PRODID:-//Site de la commune de Pamfou - ECPv4.9.2//NONSGML v1.0//EN
CALSCALE:GREGORIAN
METHOD:PUBLISH
X-WR-CALNAME:Site de la commune de Pamfou
X-ORIGINAL-URL:https://www.pamfou-mairie77.fr
X-WR-CALDESC:Évènements pour Site de la commune de Pamfou
BEGIN:VEVENT
DTSTART;TZID=Europe/Paris:20240507T190000
DTEND;TZID=Europe/Paris:20240507T203000
DTSTAMP:20260420T011537
CREATED:20240502T150715Z
LAST-MODIFIED:20240502T150715Z
UID:4037-1715108400-1715113800@www.pamfou-mairie77.fr
SUMMARY:Réunion d'information (ZAER)
DESCRIPTION:\nRéunion d’information \n\n– – – – – – – \n\nZONE d’ACCELERATION des ENERGIES RENOUVELABLE \n(ZAER) \nRéunion d’information \nMardi 7 Mai 2024 \nEn Mairie à 19h00 \nLe Conseil Municipal vous invite à découvrir le projet de transition énergétique qui est en étude actuellement sur la commune de PAMFOU (zone impactées\, gestion des énergies renouvelable) \n\n
URL:https://www.pamfou-mairie77.fr/evenement/reunion-dinformation-zaer/
LOCATION:Mairie
END:VEVENT
END:VCALENDAR