BEGIN:VCALENDAR
VERSION:2.0
PRODID:-//Site de la commune de Pamfou - ECPv4.9.2//NONSGML v1.0//EN
CALSCALE:GREGORIAN
METHOD:PUBLISH
X-WR-CALNAME:Site de la commune de Pamfou
X-ORIGINAL-URL:https://www.pamfou-mairie77.fr
X-WR-CALDESC:Évènements pour Site de la commune de Pamfou
BEGIN:VEVENT
DTSTART;TZID=Europe/Paris:20170613T080000
DTEND;TZID=Europe/Paris:20170613T170000
DTSTAMP:20260422T002725
CREATED:20170613T133408Z
LAST-MODIFIED:20170613T133408Z
UID:554-1497340800-1497373200@www.pamfou-mairie77.fr
SUMMARY:test jours
DESCRIPTION:tezzf zfzefz \n
URL:https://www.pamfou-mairie77.fr/evenement/test-jours/
END:VEVENT
END:VCALENDAR