BEGIN:VCALENDAR
VERSION:2.0
PRODID:-//Site de la commune de Pamfou - ECPv4.9.2//NONSGML v1.0//EN
CALSCALE:GREGORIAN
METHOD:PUBLISH
X-WR-CALNAME:Site de la commune de Pamfou
X-ORIGINAL-URL:https://www.pamfou-mairie77.fr
X-WR-CALDESC:Évènements pour Site de la commune de Pamfou
BEGIN:VEVENT
DTSTART;TZID=Europe/Paris:20170315T080000
DTEND;TZID=Europe/Paris:20170315T170000
DTSTAMP:20260422T020137
CREATED:20160205T153430Z
LAST-MODIFIED:20170119T155918Z
UID:234-1489564800-1489597200@www.pamfou-mairie77.fr
SUMMARY:test toto even
DESCRIPTION:
URL:https://www.pamfou-mairie77.fr/evenement/test-toto-even/
END:VEVENT
END:VCALENDAR