BEGIN:VCALENDAR
VERSION:2.0
PRODID:-//Site de la commune de Pamfou - ECPv4.9.2//NONSGML v1.0//EN
CALSCALE:GREGORIAN
METHOD:PUBLISH
X-WR-CALNAME:Site de la commune de Pamfou
X-ORIGINAL-URL:https://www.pamfou-mairie77.fr
X-WR-CALDESC:Évènements pour Site de la commune de Pamfou
BEGIN:VEVENT
DTSTART;TZID=Europe/Paris:20260429T080000
DTEND;TZID=Europe/Paris:20260429T170000
DTSTAMP:20260425T141909
CREATED:20260424T122234Z
LAST-MODIFIED:20260424T123348Z
UID:4490-1777449600-1777482000@www.pamfou-mairie77.fr
SUMMARY:URGENT - COUPURE D'EAU
DESCRIPTION:Dans le cadre du renouvellement du branchement d’eau potable opéré par l’entreprise ESTP à partir du lundi 27/04/2026\,  \nUne coupure d’eau générale sera réalisée par le mercredi 29/04/2026 à partir de 09h00 jusqu’à 16h00. \nLes rues impactées par cette coupure seront les suivantes :  \n1) Rue Grande\, 2) Chemin de la Pièce\, 3) Rue de l’Auxerrois\, 4) Chemin du Ru des Caves\, 5) Chemin des Chevets\, 6) Route à Madame\, 7) Route de Chapendu \n8) Allée des Jeux\, 9) Rue de Bailly\, 10) Ferme de l’Ecluse\, 11) Les Chalets de l’Ecluse \nCi-dessous le plan11) Carrefour de l’Écluse (D605) \n
URL:https://www.pamfou-mairie77.fr/evenement/urgent-coupure-deau/
LOCATION:Mairie
END:VEVENT
END:VCALENDAR