BEGIN:VCALENDAR
VERSION:2.0
PRODID:-//Site de la commune de Pamfou - ECPv4.9.2//NONSGML v1.0//EN
CALSCALE:GREGORIAN
METHOD:PUBLISH
X-WR-CALNAME:Site de la commune de Pamfou
X-ORIGINAL-URL:https://www.pamfou-mairie77.fr
X-WR-CALDESC:Évènements pour Site de la commune de Pamfou
BEGIN:VEVENT
DTSTART;TZID=Europe/Paris:20220526T080000
DTEND;TZID=Europe/Paris:20220526T180000
DTSTAMP:20260421T160844
CREATED:20220407T130351Z
LAST-MODIFIED:20220407T132704Z
UID:3000-1653552000-1653588000@www.pamfou-mairie77.fr
SUMMARY:VIDE GRENIER 2022
DESCRIPTION:
URL:https://www.pamfou-mairie77.fr/evenement/vide-grenier-2022/
LOCATION:Salle polyvalente\, rue du 19 mars 1962\, Pamfou\, 77830\, France
ATTACH;FMTTYPE=image/jpeg:https://www.pamfou-mairie77.fr/wp-content/uploads/2022/04/2022-VIDE-GRENIER-1.jpg
END:VEVENT
END:VCALENDAR