BEGIN:VCALENDAR
VERSION:2.0
PRODID:-//Site de la commune de Pamfou - ECPv4.9.2//NONSGML v1.0//EN
CALSCALE:GREGORIAN
METHOD:PUBLISH
X-WR-CALNAME:Site de la commune de Pamfou
X-ORIGINAL-URL:https://www.pamfou-mairie77.fr
X-WR-CALDESC:Évènements pour Site de la commune de Pamfou
BEGIN:VEVENT
DTSTART;TZID=Europe/Paris:20230916T090000
DTEND;TZID=Europe/Paris:20230916T180000
DTSTAMP:20260420T100340
CREATED:20230713T161711Z
LAST-MODIFIED:20230728T070929Z
UID:3484-1694854800-1694887200@www.pamfou-mairie77.fr
SUMMARY:Vide Greniers 2023
DESCRIPTION:A PAMFOU \nVIDEGRENIERS \nSamedi 16 Septembre 2023 \nNombreux exposants\, restauration sur place\, entrée gratuite pour les visiteurs. \nL’inscription est disponible en Mairie. \nRenseignements : \nComité des Fêtes de PAMFOU : comite.de.pamfou@live.fr ou Tél : 06.16.22.21.17 \nScanner les 2 QR code pour télécharger les 2 pages de fiches d’inscription ou cliquer ici \n  \n   \n  \n
URL:https://www.pamfou-mairie77.fr/evenement/vide-greniers-2023/
LOCATION:Salle polyvalente\, rue du 19 mars 1962\, Pamfou\, 77830\, France
ORGANIZER;CN="Comit%C3%A9%20des%20F%C3%AAtes":MAILTO:comite.de.pamfou@live.fr
END:VEVENT
END:VCALENDAR