BEGIN:VCALENDAR
VERSION:2.0
PRODID:-//Site de la commune de Pamfou - ECPv4.9.2//NONSGML v1.0//EN
CALSCALE:GREGORIAN
METHOD:PUBLISH
X-WR-CALNAME:Site de la commune de Pamfou
X-ORIGINAL-URL:https://www.pamfou-mairie77.fr
X-WR-CALDESC:Évènements pour Site de la commune de Pamfou
BEGIN:VEVENT
DTSTART;VALUE=DATE:20240914
DTEND;VALUE=DATE:20240915
DTSTAMP:20260419T142435
CREATED:20240525T073115Z
LAST-MODIFIED:20240525T073115Z
UID:4051-1726272000-1726358399@www.pamfou-mairie77.fr
SUMMARY:Vide Greniers
DESCRIPTION:Fiche d’inscription vide greniers 2024 à télécharger ici                \n  \n
URL:https://www.pamfou-mairie77.fr/evenement/vide-greniers/
LOCATION:Salle des Fêtes\, 3 rue du 19 Mars 1962\, PAMFOU\, 77830\, France
ORGANIZER;CN="Comit%C3%A9%20des%20F%C3%AAtes":MAILTO:comite.de.pamfou@live.fr
END:VEVENT
END:VCALENDAR